BEGIN:VCALENDAR
VERSION:2.0
PRODID:-//wp-events-plugin.com//6.4.10//EN
TZID:Europe/Berlin
X-WR-TIMEZONE:Europe/Berlin
BEGIN:VEVENT
UID:6@g-a-m-m-a.org
DTSTART;TZID=Europe/Berlin;VALUE=DATE:20211112
DTEND;TZID=Europe/Berlin;VALUE=DATE:20211114
DTSTAMP:20211019T053601Z
URL:https://www.g-a-m-m-a.org/events/gamma-workshop-zuerich/
SUMMARY:GAMMA Workshop in Zürich
DESCRIPTION:Unter dem Motto «Modelle\, Methoden und funktionelle Tests in 
 der Bewegungsanalyse» lädt die Universitätsklinik Balgrist am 12.–13.
 11.2021 zum nächsten GAMMA Workshop nach Zürich ein. Dieser wird in Koop
 eration des Universitäts-Kinderspitals Zürich und der Universitätsklini
 k Balgrist ausgetragen. Das Motto der Veranstaltung vereint drei essentiel
 le Themen in der klinischen Bewegungsanalytik – Modelle\, Methoden und f
 unktionelle Tests.\n\nBei Rückfragen können Sie sich an Britta Krautwurs
 t wenden (britta.krautwurst@kispi.uzh.ch\, Tel. +41 44 266 3534). Weitere 
 Infos zur Veranstaltung sowie eine Programmübersicht können dem Flyer en
 tnommen werden (Balgrist_Gamma_Workshop_2021_Flyer).\n\nAnmeldung\n\nDie A
 nmeldung ist geschlossen! Bei Fragen bitte an britta.krautwurst@kispi.uzh.
 ch wenden.\n\nDie Teilnahme ist für GAMMA-Mitglieder kostenlos und für G
 AMMA-Nicht-Mitglieder belaufen sich die Kosten auf CHF 30. Die Anmeldung i
 st erst nach dem Zahlungseingang gültig. Überweisen Sie bitte die Teilna
 hmegebühr auf angegebenes Konto:\n\nUniversitätsklinik Balgrist\, Forchs
 tr. 340\, CH-8008 Zürich\nZürcher Kantonalbank\, CH-8010 Zürich\nIBAN: 
 CH90 0070 0111 3012 8900 8\nBIC (SWIFT-Code): ZKBKCHZZ80A\nZahlungsvermerk
 : SK 220‘560\n\nEbenso können Sie sich hier für die Workshops anmelden
 . Es werden vier Workshops angeboten\, die jeweils zweimal durchgeführt w
 erden. Bitte wählen Sie zwei Workshops aus\, an denen Sie teilnehmen möc
 hten und melden sich verbindlich für diese an.\nBitte beachten Sie\, dass
  die Anzahl der Teilnehmer bei einigen Workshops begrenzt ist.\n\n1)   
    Screening Tests für sportspezifische Fragestellungen: 15 Personen\n2
 )      Multidirektionale Gewichtsentlastungssysteme: 20 Personen\n3)
       3D-guided Osteotomy: 25 Personen\n4)      Falldiskussion: 
 ohne Begrenzung\n\nAbendveranstaltung\n\nDie Abendveranstaltung ist eine g
 rößtenteils gesponserte Veranstaltung. Bitte beachten Sie\, dass die Anz
 ahl der Personen begrenzt ist. Die Selbstbeteiligung beträgt CHF 30 pro P
 erson. Bitte melden Sie sich über die Homepage verbindlich bis zum 01.Okt
 ober 2021 hierfür an. Die Anmeldung ist erst nach dem Zahlungseingang gü
 ltig. Überweisen Sie bitte die Teilnahmegebühr auf angegebenes Konto. Be
 i einer Stornierung werden Ihnen die entstandenen Kosten in Höhe von CHF 
 100 in Rechnung gestellt.\n\n&nbsp\;\n\nCorona-Schutzkonzept\n\nBei der Ve
 ranstaltung in der Universitätsklinik Balgrist sowie der Abendveranstaltu
 ng im Wöschi dürfen nach den aktuellen Richtlinien Personen\, die vollst
 ändig geimpft\, genesen oder getestet sind\, teilnehmen. Das Zertifikat w
 ird Vorort geprüft.\n\nEinreise in die Schweiz (admin.ch)\n\nErhalt und G
 ültigkeit des Covid-Zertifikats (admin.ch)\n\nUnterkunft\n\nBei Fragen bz
 gl. einer Unterkunft können Sie sich unter britta.krautwurst@kispi.uzh.ch
  melden.
ATTACH;FMTTYPE=image/jpeg:https://www.g-a-m-m-a.org/wp-content/uploads/UZ6
 _6924.jpg
CATEGORIES:Workshops
LOCATION:Universitätsklinik Balgrist\, Forchstrasse 340\, 8008 Zürich\, S
 chweiz
X-APPLE-STRUCTURED-LOCATION;VALUE=URI;X-ADDRESS=Forchstrasse 340\, 8008 Zü
 rich\, Schweiz;X-APPLE-RADIUS=100;X-TITLE=Universitätsklinik Balgrist:geo
 :0,0
END:VEVENT
BEGIN:VTIMEZONE
TZID:Europe/Berlin
X-LIC-LOCATION:Europe/Berlin
BEGIN:STANDARD
DTSTART:20211031T020000
TZOFFSETFROM:+0200
TZOFFSETTO:+0100
TZNAME:CET
END:STANDARD
END:VTIMEZONE
END:VCALENDAR