BEGIN:VCALENDAR
VERSION:2.0
PRODID:-//wp-events-plugin.com//6.4.10//EN
TZID:Europe/Berlin
X-WR-TIMEZONE:Europe/Berlin
BEGIN:VEVENT
UID:8@g-a-m-m-a.org
DTSTART;TZID=Europe/Berlin;VALUE=DATE:20230303
DTEND;TZID=Europe/Berlin;VALUE=DATE:20230305
DTSTAMP:20220704T143014Z
URL:https://www.g-a-m-m-a.org/events/gamma-kongress-heidelberg-2023/
SUMMARY:GAMMA Kongress Heidelberg 2023
DESCRIPTION:Von 01. - 04. März 2023 findet der nächste GAMMA Kongress in 
 Heidelberg statt.\n\nAlle Infos zum Gangkurs und der Tagung findet ihr hie
 r: https://www.g-a-m-m-a.org/gamma-kongress/
ATTACH;FMTTYPE=image/jpeg:https://www.g-a-m-m-a.org/wp-content/uploads/Scr
 eenshot-2022-05-19-145115.jpg
CATEGORIES:Kongresse
LOCATION:-\, -\, Heidelberg\, Deutschland
X-APPLE-STRUCTURED-LOCATION;VALUE=URI;X-ADDRESS=-\, Heidelberg\, Deutschlan
 d;X-APPLE-RADIUS=100;X-TITLE=-:geo:0,0
END:VEVENT
BEGIN:VTIMEZONE
TZID:Europe/Berlin
X-LIC-LOCATION:Europe/Berlin
BEGIN:STANDARD
DTSTART:20221030T020000
TZOFFSETFROM:+0200
TZOFFSETTO:+0100
TZNAME:CET
END:STANDARD
END:VTIMEZONE
END:VCALENDAR