BEGIN:VCALENDAR
VERSION:2.0
PRODID:-//wp-events-plugin.com//6.4.10//EN
TZID:Europe/Berlin
X-WR-TIMEZONE:Europe/Berlin
BEGIN:VEVENT
UID:7@g-a-m-m-a.org
DTSTART;TZID=Europe/Berlin;VALUE=DATE:20230301
DTEND;TZID=Europe/Berlin;VALUE=DATE:20230303
DTSTAMP:20220704T142113Z
URL:https://www.g-a-m-m-a.org/events/gamma-ganganalysekurs-1-2-maerz-2023/
SUMMARY:GAMMA Ganganalysekurs 1./2. März 2023
DESCRIPTION:Im März wird der nächste GAMMA Ganganalysekurs in Heidelberg 
 im Vorfeld des GAMMA Kongresses stattfinden.\n\nAlle Infos zum Gangkurs un
 d der Tagung findet ihr hier: https://www.g-a-m-m-a.org/gamma-kongress/
ATTACH;FMTTYPE=image/jpeg:https://www.g-a-m-m-a.org/wp-content/uploads/Scr
 eenshot-2022-05-19-145115.jpg
CATEGORIES:Kurse
END:VEVENT
BEGIN:VTIMEZONE
TZID:Europe/Berlin
X-LIC-LOCATION:Europe/Berlin
BEGIN:STANDARD
DTSTART:20221030T020000
TZOFFSETFROM:+0200
TZOFFSETTO:+0100
TZNAME:CET
END:STANDARD
END:VTIMEZONE
END:VCALENDAR